BEGIN:VCALENDAR
VERSION:2.0
PRODID:spatie/icalendar-generator
DESCRIPTION:Hendelser fra Ett slag av gangen
X-WR-CALDESC:Hendelser fra Ett slag av gangen
REFRESH-INTERVAL;VALUE=DURATION:PT1440M
X-PUBLISHED-TTL:PT1440M
BEGIN:VTIMEZONE
TZID:Etc/GMT-1
BEGIN:STANDARD
DTSTART:20240307T000000Z
TZOFFSETFROM:+0100
TZOFFSETTO:+0100
END:STANDARD
END:VTIMEZONE
BEGIN:VTIMEZONE
TZID:UTC
BEGIN:STANDARD
DTSTART:20250726T171908Z
TZOFFSETFROM:+0000
TZOFFSETTO:+0000
END:STANDARD
END:VTIMEZONE
BEGIN:VEVENT
UID:203-191
DTSTAMP:20260422T171908Z
SUMMARY:NAV Tilskudd til aktivisering og arbeidstrening for 2025 - Søknads
 frist
LOCATION:
ORGANIZER;CN=Hilde Holmberg:MAILTO:hilde@ettslagavgangen.no
DTSTART;TZID=Etc/GMT-1;VALUE=DATE:20241202
DTEND;TZID=Etc/GMT-1;VALUE=DATE:20241203
X-ALT-DESC;FMTTYPE=TEXT/HTML:
CATEGORIES:General
URL;VALUE=URI:https://ettslagavgangen.no/mc-events/nav-tilskudd-til-aktivis
 ering-og-arbeidstrening-for-2025-soknadsfrist/
METHOD:PUBLISH
END:VEVENT
END:VCALENDAR