BEGIN:VCALENDAR
VERSION:2.0
PRODID:spatie/icalendar-generator
DESCRIPTION:Hendelser fra Ett slag av gangen
X-WR-CALDESC:Hendelser fra Ett slag av gangen
REFRESH-INTERVAL;VALUE=DURATION:PT1440M
X-PUBLISHED-TTL:PT1440M
BEGIN:VTIMEZONE
TZID:Etc/GMT-1
BEGIN:STANDARD
DTSTART:20230909T130000Z
TZOFFSETFROM:+0100
TZOFFSETTO:+0100
END:STANDARD
END:VTIMEZONE
BEGIN:VTIMEZONE
TZID:UTC
BEGIN:STANDARD
DTSTART:20250728T101508Z
TZOFFSETFROM:+0000
TZOFFSETTO:+0000
END:STANDARD
END:VTIMEZONE
BEGIN:VEVENT
UID:138-131
DTSTAMP:20260424T101508Z
SUMMARY:Møte Borre GK m/Kriminalomsorgen\, Horten kommune\, klubben og ESA
 G (Marianne og Hans)
LOCATION:
ORGANIZER;CN=Hilde Holmberg:MAILTO:hilde@ettslagavgangen.no
DTSTART;TZID=Etc/GMT-1:20240605T130000
DTEND;TZID=Etc/GMT-1:20240605T140000
X-ALT-DESC;FMTTYPE=TEXT/HTML:
CATEGORIES:General
URL;VALUE=URI:https://ettslagavgangen.no/mc-events/mote-borre-gk-m-kriminal
 omsorgen-horten-kommune-klubben-og-esag-marianne-og-hans/
METHOD:PUBLISH
END:VEVENT
END:VCALENDAR